BEGIN:VCALENDAR
VERSION:2.0
PRODID:-//Kansas City Democratic Socialists of America - ECPv6.15.20//NONSGML v1.0//EN
CALSCALE:GREGORIAN
METHOD:PUBLISH
X-ORIGINAL-URL:https://kcdsa.org
X-WR-CALDESC:Events for Kansas City Democratic Socialists of America
REFRESH-INTERVAL;VALUE=DURATION:PT1H
X-Robots-Tag:noindex
X-PUBLISHED-TTL:PT1H
BEGIN:VTIMEZONE
TZID:America/Chicago
BEGIN:DAYLIGHT
TZOFFSETFROM:-0600
TZOFFSETTO:-0500
TZNAME:CDT
DTSTART:20250309T080000
END:DAYLIGHT
BEGIN:STANDARD
TZOFFSETFROM:-0500
TZOFFSETTO:-0600
TZNAME:CST
DTSTART:20251102T070000
END:STANDARD
BEGIN:DAYLIGHT
TZOFFSETFROM:-0600
TZOFFSETTO:-0500
TZNAME:CDT
DTSTART:20260308T080000
END:DAYLIGHT
BEGIN:STANDARD
TZOFFSETFROM:-0500
TZOFFSETTO:-0600
TZNAME:CST
DTSTART:20261101T070000
END:STANDARD
BEGIN:DAYLIGHT
TZOFFSETFROM:-0600
TZOFFSETTO:-0500
TZNAME:CDT
DTSTART:20270314T080000
END:DAYLIGHT
BEGIN:STANDARD
TZOFFSETFROM:-0500
TZOFFSETTO:-0600
TZNAME:CST
DTSTART:20271107T070000
END:STANDARD
END:VTIMEZONE
BEGIN:VEVENT
DTSTART;TZID=America/Chicago:20260222T133000
DTEND;TZID=America/Chicago:20260222T150000
DTSTAMP:20260421T041006
CREATED:20260212T050257Z
LAST-MODIFIED:20260220T165954Z
UID:1439-1771767000-1771772400@kcdsa.org
SUMMARY:KCDSA Organizing Meeting
DESCRIPTION:Come join the DSA for a new monthly public meeting! While our Legislative meetings are open to the public\, they center business\, debating and voting on resolutions as a Chapter. Our Organizing meetings focus more on political education\, trainings\, and discussions about current events\, strategy\, Chapter affairs\, and more! Learn about our vision and ways to get plugged into organizing here in Kansas City and start building a better world.
URL:https://kcdsa.org/event/kcdsa-organizing-meeting-3/
LOCATION:North East Public Library 6000 Wilson Ave\, Kansas City\, MO\, United States
END:VEVENT
BEGIN:VEVENT
DTSTART;TZID=America/Chicago:20260222T160000
DTEND;TZID=America/Chicago:20260222T170000
DTSTAMP:20260421T041006
CREATED:20260130T224758Z
LAST-MODIFIED:20260130T224811Z
UID:802-1771776000-1771779600@kcdsa.org
SUMMARY:PJC Book Club Discussion
DESCRIPTION:Our monthly in-person Book Club discussion–you need not have read the full text in order to participate in this discussion.
URL:https://kcdsa.org/event/pjc-book-club-discussion-3/
LOCATION:Turnsol Books\, 1664 Broadway St\, Kansas City\, MO\, United States
END:VEVENT
END:VCALENDAR